BEGIN:VCALENDAR
VERSION:2.0
PRODID:-//Kirchliche Gemeinschaft e.V. - ECPv6.15.20//NONSGML v1.0//EN
CALSCALE:GREGORIAN
METHOD:PUBLISH
X-WR-CALNAME:Kirchliche Gemeinschaft e.V.
X-ORIGINAL-URL:http://kirchlichegemeinschaft.de
X-WR-CALDESC:Veranstaltungen für Kirchliche Gemeinschaft e.V.
REFRESH-INTERVAL;VALUE=DURATION:PT1H
X-Robots-Tag:noindex
X-PUBLISHED-TTL:PT1H
BEGIN:VTIMEZONE
TZID:Europe/Helsinki
BEGIN:DAYLIGHT
TZOFFSETFROM:+0200
TZOFFSETTO:+0300
TZNAME:EEST
DTSTART:20250330T010000
END:DAYLIGHT
BEGIN:STANDARD
TZOFFSETFROM:+0300
TZOFFSETTO:+0200
TZNAME:EET
DTSTART:20251026T010000
END:STANDARD
BEGIN:DAYLIGHT
TZOFFSETFROM:+0200
TZOFFSETTO:+0300
TZNAME:EEST
DTSTART:20260329T010000
END:DAYLIGHT
BEGIN:STANDARD
TZOFFSETFROM:+0300
TZOFFSETTO:+0200
TZNAME:EET
DTSTART:20261025T010000
END:STANDARD
BEGIN:DAYLIGHT
TZOFFSETFROM:+0200
TZOFFSETTO:+0300
TZNAME:EEST
DTSTART:20270328T010000
END:DAYLIGHT
BEGIN:STANDARD
TZOFFSETFROM:+0300
TZOFFSETTO:+0200
TZNAME:EET
DTSTART:20271031T010000
END:STANDARD
END:VTIMEZONE
BEGIN:VEVENT
DTSTART;TZID=Europe/Helsinki:20260424T170000
DTEND;TZID=Europe/Helsinki:20260426T235900
DTSTAMP:20260423T151517
CREATED:20251112T003439Z
LAST-MODIFIED:20260414T142613Z
UID:23765-1777050000-1777247940@kirchlichegemeinschaft.de
SUMMARY:Frauenwochenende
DESCRIPTION:Du bist eingeladen\, einen Schritt aus dem stressigen Alltag zu wagen\, um zur Ruhe zu kommen\, den Austausch mit anderen Frauen in einer gemütlichen Teerunde zu genießen oder einfach bei einem Spaziergang deine Schöpfer zu begegnen. Vor allen Dingen darfst du dich durch Gottes Wort und verschiedene Vorträge und Bibelarbeiten ermutigen und zurüsten lassen\, damit du motiviert\, im Glauben gestärkt und strahlend wieder in deinen Alltag zurückkehren kannst. \nThema: „Aufatmen – ein Wochenende unter Frauen“ \nOrt: JFZ Koinonia \nReferent: Tatjana Büchler \nVerantwortlich: Tatjana Büchler \nZielgruppe: Frauen \nAn- und Abreise: Freitag ab 17 Uhr\, Sonntag nachmittags \n  \n→ Zur Anmeldung \n  \n \n \n  \n→ Zur Anmeldung
URL:http://kirchlichegemeinschaft.de/termin/frauenwochenende-2/
LOCATION:Jugend- & Freizeitzentrum Koinonia\, Zum Jugendheim 6-8\, Biebergemünd - Bieber\, Hessen\, 63599\, Deutschland
ATTACH;FMTTYPE=image/png:http://kirchlichegemeinschaft.de/wp-content/uploads/2025/11/1.png
ORGANIZER;CN="Kirchliche Gemeinschaft e.V.":MAILTO:info@kg-bsa.de
END:VEVENT
END:VCALENDAR