BEGIN:VCALENDAR
VERSION:2.0
PRODID:-//Kirchliche Gemeinschaft e.V. - ECPv6.15.20//NONSGML v1.0//EN
CALSCALE:GREGORIAN
METHOD:PUBLISH
X-ORIGINAL-URL:http://kirchlichegemeinschaft.de
X-WR-CALDESC:Veranstaltungen für Kirchliche Gemeinschaft e.V.
REFRESH-INTERVAL;VALUE=DURATION:PT1H
X-Robots-Tag:noindex
X-PUBLISHED-TTL:PT1H
BEGIN:VTIMEZONE
TZID:Europe/Helsinki
BEGIN:DAYLIGHT
TZOFFSETFROM:+0200
TZOFFSETTO:+0300
TZNAME:EEST
DTSTART:20250330T010000
END:DAYLIGHT
BEGIN:STANDARD
TZOFFSETFROM:+0300
TZOFFSETTO:+0200
TZNAME:EET
DTSTART:20251026T010000
END:STANDARD
BEGIN:DAYLIGHT
TZOFFSETFROM:+0200
TZOFFSETTO:+0300
TZNAME:EEST
DTSTART:20260329T010000
END:DAYLIGHT
BEGIN:STANDARD
TZOFFSETFROM:+0300
TZOFFSETTO:+0200
TZNAME:EET
DTSTART:20261025T010000
END:STANDARD
BEGIN:DAYLIGHT
TZOFFSETFROM:+0200
TZOFFSETTO:+0300
TZNAME:EEST
DTSTART:20270328T010000
END:DAYLIGHT
BEGIN:STANDARD
TZOFFSETFROM:+0300
TZOFFSETTO:+0200
TZNAME:EET
DTSTART:20271031T010000
END:STANDARD
END:VTIMEZONE
BEGIN:VEVENT
DTSTART;VALUE=DATE:20261009
DTEND;VALUE=DATE:20261020
DTSTAMP:20260425T202512
CREATED:20251112T131417Z
LAST-MODIFIED:20260413T091809Z
UID:23795-1791504000-1792454399@kirchlichegemeinschaft.de
SUMMARY:Studienreise Israel
DESCRIPTION:Programmverlauf: \nFreitag\, 09.10.2026\nFlug mit Lufthansa oder EL AL von Frankfurt nach Tel Aviv. Empfang am\nFlughafen \,\,Ben Gurion“ durch einen Vertreter von Schechinger Tours.\nDanach Fahrt zum Hotel in Tel Aviv.\nHalbpension im Hotel Grand Beach oder ähnlich in Tel Aviv. \nSamstag\, 10.10.2026:\nFahrt nach Cäsarea maritima mit Besichtigung der Ausgrabungen aus Römer-\, Byzantiner- und Kreuzfahrerzeit.\nWeiterfahrt nach Haifa mit Blick Uber die Hafenstadt und Bahai-Garten. Danach Auffahrt zum Berg Karmel mit Besuch der Opferstatte „Muhraka“\, wo einst Elia gegen die Baalspriester kämpfte und Blick nach Meggido.\nWeiterfahrt zur Unterkunft an den See Genezareth.\nHalbpension im Kibbuz Hotel am See Genezareth. \nSonntag\, 11.10.2026:\nBootsfahrt auf dem See Genezareth\, Cäsarea Philippi mit Wanderung entlang des Quellflusses\, danach kurze Auffahrt zu den Golanhöhen und zurück zur Unterkunft am See.\nHalbpension im Kibbuz Hotel am See Genezareth. \nMontag\, 12.10.2026:\nTabor (Berg der Verklarung)\, Nazareth. AnschlieBend Besuch der Ausgrabungen von Megiddo. Dann Rückfahrt zur Unterkunft am See Genezareth.\nHalbpension im Kibbuz Hotel am See Genezareth. \nDienstag\, 13.10.2026:\nBerg der Seligpreisungen (Bergpredigt)\, Tabgha (Brotvermehrungskirche)\, Kapernaum mit dem Haus des Petrus. AnschlieBend Besuch der Jordantaustelle „Yardenit“.\nDann Fahrt durch das Jordantal zur Unterkunft ans Tote Meer\nHalbpension im Hotel Leonardo Plaza oder ähnlich\, Totes Meer\nHotel am See Genezareth. \nMittwoch\, 14.10.2026:\nBesuch von Massada\, der einstigen Festung der Zeloten im Kampf gegen die 10. römische Legion. Auf- und Abfahrt mit der modernen Drahtseilbahn\, sowie Rundgang und Erklärung der Festung. Danach ausgiebige Zeit zum Baden im Toten Meer.\nHalbpension im Hotel Leonardo Plaza oder ähnlich\, Totes Meer \nDonnerstag\, 15.10.2026:\nBesuch der Oase Ein Gedi\, wo sich einst David vor König Saul versteckt hielt. Wanderung zum „Davids-Wasserfall“ und Wanderung im \,Nahal Arugot“. Danach geht die Fahrt nach Qumran\, dem Fundort der Jesaja-Schriftrollen.\nAnschlieBend weiter nach Ma’ale Adumim mit Führung. AnschlieBend Auffahrt nach\nJerusalem zur Unterkunft.\nHalbpension im Kibbutz Ramat Rachel in Jerusalem. \nFreitag\, 16.10.2026:\nFahrt zum Ölberg\, Himmelfahrtskapelle\, Flevit Kirche\, Garten Gethsemane\, Davidsstadt mit Gang durch den Hiskia-Tunnel\, einem beeindruckenden Erlebnis.\nHalbpension Kibbutz Ramat Rachel in Jerusalem. \nSamstag\, 17.10.2026:\nBesuch der Altstadt Jerusalems: Via Dolorosa (Intensiv alle Stationen)\, Teich Betesda\, Österreichisches Hospiz\, Grabeskirche\, Ev. Luth. Kirche\, Bummel Uber den orientalischen Basar und Besuch der Klagemauer. Ruckfahrt zum Hotel.\nHalbpension Kibbutz Ramat Rachel in Jerusalem. \nSonntag\, 18.10.2026:\nBesichtigung mit Rundgang in der Knesseth\, dem israelischen Parlament (wenn\nmöglich). Weiter geht es zur Menorah (siebenarmiger Leuchter) und anschlieBend\nBesuch im Gartengrab mit Abendmahl. Besichtigung des Modells Jerusalems zur Zeit\nJesu im Maßstab 1:50 beim „Schrein des Buches“. AbschlieBend Bummel Uber den\nMahanei-Yehuda-Markt und Ruckfahrt zum Hotel.\nHalbpension Kibbutz Ramat Rachel in Jerusalem. \nMontag\, 19.10.2026:\nFahrt nach Tel Aviv und Besuch von Alt-Jaffa\, dem einstigen Joppe. Besichtigung und Rundgang im Künstlerviertel und anschließend Fahrt zum Flughafen \,Ben Gurion“ bei Tel Aviv. Rückflug mit Lufthansa oder EL AL nach Frankfurt. \nOrganisatorische Leitung: Alexander Krüger\nEmail: alexander.krueger@kg-bsa.de \nGeistliche Leitung: Waldemar Lies\nEmail: waldemar.lies@kg-bsa.de \nWeitere Informationen:\nIsraelreise 09. – 19.10.2026 \n  \nHier Anmelden
URL:http://kirchlichegemeinschaft.de/termin/studienreise-israel/
LOCATION:Hessen
ORGANIZER;CN="Kirchliche Gemeinschaft e.V.":MAILTO:info@kg-bsa.de
END:VEVENT
END:VCALENDAR