BEGIN:VCALENDAR
VERSION:2.0
PRODID:-//Kirchliche Gemeinschaft e.V. - ECPv6.15.20//NONSGML v1.0//EN
CALSCALE:GREGORIAN
METHOD:PUBLISH
X-WR-CALNAME:Kirchliche Gemeinschaft e.V.
X-ORIGINAL-URL:http://kirchlichegemeinschaft.de
X-WR-CALDESC:Veranstaltungen für Kirchliche Gemeinschaft e.V.
REFRESH-INTERVAL;VALUE=DURATION:PT1H
X-Robots-Tag:noindex
X-PUBLISHED-TTL:PT1H
BEGIN:VTIMEZONE
TZID:Europe/Helsinki
BEGIN:DAYLIGHT
TZOFFSETFROM:+0200
TZOFFSETTO:+0300
TZNAME:EEST
DTSTART:20250330T010000
END:DAYLIGHT
BEGIN:STANDARD
TZOFFSETFROM:+0300
TZOFFSETTO:+0200
TZNAME:EET
DTSTART:20251026T010000
END:STANDARD
BEGIN:DAYLIGHT
TZOFFSETFROM:+0200
TZOFFSETTO:+0300
TZNAME:EEST
DTSTART:20260329T010000
END:DAYLIGHT
BEGIN:STANDARD
TZOFFSETFROM:+0300
TZOFFSETTO:+0200
TZNAME:EET
DTSTART:20261025T010000
END:STANDARD
BEGIN:DAYLIGHT
TZOFFSETFROM:+0200
TZOFFSETTO:+0300
TZNAME:EEST
DTSTART:20270328T010000
END:DAYLIGHT
BEGIN:STANDARD
TZOFFSETFROM:+0300
TZOFFSETTO:+0200
TZNAME:EET
DTSTART:20271031T010000
END:STANDARD
END:VTIMEZONE
BEGIN:VEVENT
DTSTART;TZID=Europe/Helsinki:20260911T170000
DTEND;TZID=Europe/Helsinki:20260913T170000
DTSTAMP:20260425T191003
CREATED:20251112T123443Z
LAST-MODIFIED:20260413T162443Z
UID:23784-1789146000-1789318800@kirchlichegemeinschaft.de
SUMMARY:Mutter-Tochter-Wochenende
DESCRIPTION:Mütter und ihre Töchter – eine gute Beziehung kann sehr bereichernd für beide sein. Uns ist es wichtig\, dies zu unterstützen und zu fördern\, indem wir euch die Möglichkeit geben\, die eigene Mutter-Tochter-Beziehung zu stärken und mit anderen Müttern und Töchtern in den Austausch zu kommen. An diesem Wochenende wollen wir verschiedene Lebenslügen\, die sich in unserem Denken eingenistet haben und somit unser Leben negativ prägen\, durch Gottes befreiende Wahrheit aufdecken und ersetzen. \n \n \nThema: „Wer die Wahrheit kennt\, muss der Lüge nicht glauben“\nOrt: JFZ Koinonia\nReferenten: Bettina Lippert\, Tatjana Büchler\nVerantwortlich: Bettina Lippert & Tatjana Büchler\nZielgruppe: Mädchen von 12 bis 15 Jahren und ihre Mütter\nAn- und Abreise: Freitag ab 17 Uhr\, Sonntag nachmittags \n  \nHier Anmelden
URL:http://kirchlichegemeinschaft.de/termin/mutter-tochter-wochenende-3/
LOCATION:Jugend- & Freizeitzentrum Koinonia\, Zum Jugendheim 6-8\, Biebergemünd - Bieber\, Hessen\, 63599\, Deutschland
ATTACH;FMTTYPE=image/png:http://kirchlichegemeinschaft.de/wp-content/uploads/2026/04/Mutter_Tochter_1.png
ORGANIZER;CN="Kirchliche Gemeinschaft e.V.":MAILTO:info@kg-bsa.de
END:VEVENT
BEGIN:VEVENT
DTSTART;VALUE=DATE:20260919
DTEND;VALUE=DATE:20260920
DTSTAMP:20260425T191003
CREATED:20251112T124828Z
LAST-MODIFIED:20251112T124845Z
UID:23788-1789776000-1789862399@kirchlichegemeinschaft.de
SUMMARY:Leitertreffen
DESCRIPTION:Als geistliche Leiter tragen wir Verantwortung. Dieses Treffen bietet praxisnahe Impulse\, wie wir seelsorgerlich fuhren: Missstande behutsam erkennen\, Buse und Dankbarkeit fordern und Gottes Gegenwart in der Leitung sichtbar werden lassen. Durch Inputs und Austausch lernen wir\, wie Seelsorge in die Gemeindekultur intergriert werden kann. Nutze die Gelegenheit\, neue Perspektiven zu gewinnen\, dich mit anderen zu vernetzen und gestarkt in den Dienst zu gehen. \nThema: „Seelsorgerlich Leiten“ \nOrt: JFZ Koinonia \nReferent: Dr. Rolf Sons \nVerantwortliche: Waldemar Lies & Viktor Janke \nZielgruppe: Mitarbeiter & Leiter von Gemeindegruppen\, inkl. Gemeindeleiter \nAn- und Abreise: Anreise bis 09:30 Uhr\, Abreise ab 17 Uhr
URL:http://kirchlichegemeinschaft.de/termin/leitertreffen/
LOCATION:Jugend- & Freizeitzentrum Koinonia\, Zum Jugendheim 6-8\, Biebergemünd - Bieber\, Hessen\, 63599\, Deutschland
ORGANIZER;CN="Kirchliche Gemeinschaft e.V.":MAILTO:info@kg-bsa.de
END:VEVENT
BEGIN:VEVENT
DTSTART;VALUE=DATE:20260925
DTEND;VALUE=DATE:20260928
DTSTAMP:20260425T191003
CREATED:20251112T124407Z
LAST-MODIFIED:20251130T185110Z
UID:23786-1790294400-1790553599@kirchlichegemeinschaft.de
SUMMARY:Seelsorgeschulung (S2 & S9)
DESCRIPTION:Menschen begleiten und beraten – Klassische Formen der Seelsorge\nWas sagt die Bibel Uber den seelsorgerlichen Umgang mit anderen Menschen? Verschiedene\nMenschen in unterschiedlichen Lebenssituationen mit mannigfachen Problemen bendtigen eine\njeweils andersgeartete Vorgehensweise (1. Thessalonicher 5\,14). Wir lernen verschiedene\nFormen biblischer Seelsorge kennen: Was versteht die Bibel unter Ermahnen und Ermutigen?\nWie verhalten wir uns beim Haus- und Krankenbesuch? Wie geschieht Beichte und der\nZuspruch der Vergebung? Was ist tro6sten und wie gehen wir als Seelsorger mit Menschen um\,\ndie notvolle Verlusterfahrungen gemacht haben? \nBegleitende Seelsorge und Krisenintervention – Grenzen erkennen und Méglichkeiten gestalten \nSchwere seelische Störungen\, Erkrankungen und akute Grenzerfahrungen\, die zu einer\nsuizidalen Krise fuhren\, machen die Grenzen der seelsorgerlichen Begleitung deutlich. Wie\nzeigen sich diese Stérungen\, welche Symptome sind zu beachten und was bedeutet das fur die\npraktische Seelsorge? Das Seminar vermittelt fundiertes Wissen Uber die Hintergrunde akuter\nKrisen und macht Zusammenhange seelischer Störungen deutlich. Die Teilnehmer lernen\nHandlungskonzepte zur Krisenintervention kennen und werden zu einem sorgsamen Umgang\nmit den eigenen Grenzen angeleitet. \nThema: Klassische Formen der Seelsorge \nOrt: JFZ Koinonia \nReferent: Tobias Daum \nVerantwortlich: Waldemar Lies & Viktor BUchler \nZielgruppe: Alle \nAn- und Abreise: Freitag ab 17 Uhr – Sonntag nachmittags \nZur Anmeldung
URL:http://kirchlichegemeinschaft.de/termin/seelsorgeschulung-s2-s9/
LOCATION:Jugend- & Freizeitzentrum Koinonia\, Zum Jugendheim 6-8\, Biebergemünd - Bieber\, Hessen\, 63599\, Deutschland
ORGANIZER;CN="Kirchliche Gemeinschaft e.V.":MAILTO:info@kg-bsa.de
END:VEVENT
END:VCALENDAR