BEGIN:VCALENDAR
VERSION:2.0
PRODID:-//Kirchliche Gemeinschaft e.V. - ECPv6.15.20//NONSGML v1.0//EN
CALSCALE:GREGORIAN
METHOD:PUBLISH
X-ORIGINAL-URL:http://kirchlichegemeinschaft.de
X-WR-CALDESC:Veranstaltungen für Kirchliche Gemeinschaft e.V.
REFRESH-INTERVAL;VALUE=DURATION:PT1H
X-Robots-Tag:noindex
X-PUBLISHED-TTL:PT1H
BEGIN:VTIMEZONE
TZID:Europe/Helsinki
BEGIN:DAYLIGHT
TZOFFSETFROM:+0200
TZOFFSETTO:+0300
TZNAME:EEST
DTSTART:20250330T010000
END:DAYLIGHT
BEGIN:STANDARD
TZOFFSETFROM:+0300
TZOFFSETTO:+0200
TZNAME:EET
DTSTART:20251026T010000
END:STANDARD
BEGIN:DAYLIGHT
TZOFFSETFROM:+0200
TZOFFSETTO:+0300
TZNAME:EEST
DTSTART:20260329T010000
END:DAYLIGHT
BEGIN:STANDARD
TZOFFSETFROM:+0300
TZOFFSETTO:+0200
TZNAME:EET
DTSTART:20261025T010000
END:STANDARD
BEGIN:DAYLIGHT
TZOFFSETFROM:+0200
TZOFFSETTO:+0300
TZNAME:EEST
DTSTART:20270328T010000
END:DAYLIGHT
BEGIN:STANDARD
TZOFFSETFROM:+0300
TZOFFSETTO:+0200
TZNAME:EET
DTSTART:20271031T010000
END:STANDARD
END:VTIMEZONE
BEGIN:VEVENT
DTSTART;TZID=Europe/Helsinki:20260612T170000
DTEND;TZID=Europe/Helsinki:20260614T150000
DTSTAMP:20260425T150026
CREATED:20251112T122511Z
LAST-MODIFIED:20260413T091223Z
UID:23775-1781283600-1781449200@kirchlichegemeinschaft.de
SUMMARY:Bibelstudientage
DESCRIPTION:Kennst du das auch? Im Alltag fällt es oft schwer\, ein Bibelbuch wirklich intensiv zu studieren – und wenn man es tut\, gibt es oft Passagen\, die wir nicht verstehen. Durch die Bibelstudien-Tage erhältst du die Möglichkeit\, dich auf einer tieferen Ebene mit einem bestimmten Bibelbuch zu beschäftigen. Du wirst von erfahrenen Referenten geleitet\, die sich seit vielen Jahren mit diesem Buch beschäftigen. Wir werden dir helfen\, schwierige Stellen zu verstehen und wertvolle Einblicke zu gewinnen\, die du im Alltag vielleicht übersiehst. Neben den tiefen Bibelarbeiten gibt es auch Raum für Austausch und Gemeinschaft mit anderen Teilnehmern. \nThema: Weitere Informationen folgen\nOrt: JFZ Koinonia\nReferent: In Kooperation mit der Martin-Luther-Gemeinde-Akademie\nVerantwortlich: Waldemar Lies & Viktor Janke\nZielgruppe: Für alle\nAn- und Abreise: Freitag ab 17 Uhr\, Sonntag ca. 15 Uhr \nHier Anmelden
URL:http://kirchlichegemeinschaft.de/termin/23775/
LOCATION:Jugend- & Freizeitzentrum Koinonia\, Zum Jugendheim 6-8\, Biebergemünd - Bieber\, Hessen\, 63599\, Deutschland
ORGANIZER;CN="Kirchliche Gemeinschaft e.V.":MAILTO:info@kg-bsa.de
END:VEVENT
BEGIN:VEVENT
DTSTART;TZID=Europe/Helsinki:20260619T170000
DTEND;TZID=Europe/Helsinki:20260621T150000
DTSTAMP:20260425T150026
CREATED:20251112T122746Z
LAST-MODIFIED:20251130T185205Z
UID:23777-1781888400-1782054000@kirchlichegemeinschaft.de
SUMMARY:Seelsorgeschulung (S8)
DESCRIPTION:Was glaube ich eigentlich? Dieses Seminar verhilft zur Reflexion und Sprachfähigkeit des eigenen Glaubens. Es will vergewissern\, hinterfragen und zu neuen Perspektiven einladen\, die durch die befreiende Botschaft des Evangeliums möglich sind. Es lädt zu einem Glauben ein\, der in die Freiheit der Eigenverantwortung führt\, und macht Mut zum Gespräch mit einem beziehungswilligen Gott. Wir werden der Wirkung von krankmachenden und heilenden Gottesbildern nachgehen\, tiefere Zusammenhänge zwischen Lebens- und Glaubenslogik erkunden und lernen\, wie man Glaubensfragen in Seelsorge- und Beratungsgesprächen thematisiert. \nThema: „Glaube\, der nach Freiheit schmeckt – Gottes Beziehung und Lebenslogik“\nOrt: JFZ Koinonia\nReferent: Dr. Michael Hübner\nVerantwortlich: Waldemar Lies & Viktor Büchler\nZielgruppe: Alle\nAn- und Abreise: Freitag ab 17 Uhr\, Sonntag nachmittags \nZur Anmeldung
URL:http://kirchlichegemeinschaft.de/termin/seelsorgeschulung-s8/
LOCATION:Jugend- & Freizeitzentrum Koinonia\, Zum Jugendheim 6-8\, Biebergemünd - Bieber\, Hessen\, 63599\, Deutschland
ORGANIZER;CN="Kirchliche Gemeinschaft e.V.":MAILTO:info@kg-bsa.de
END:VEVENT
BEGIN:VEVENT
DTSTART;VALUE=DATE:20260626
DTEND;VALUE=DATE:20260629
DTSTAMP:20260425T150026
CREATED:20260119T214422Z
LAST-MODIFIED:20260413T161609Z
UID:23926-1782432000-1782691199@kirchlichegemeinschaft.de
SUMMARY:Stufen des Lebens
DESCRIPTION:Thema: Anstößig leben \nBeschreibung: Was Anstöße bewirken\, sehen wir beim Spielen mit Kugeln. Es kommt etwas ins Rollen. Ein Anstoß genügt und es kommt Bewegung ins (Lebens-)Spiel…\nAnhand von biblischen Texten werden wir entdecken\, wie Menschen angestoßen werden\, Anstoß erregen und dadurch vieles in Bewegung kommt. \n \nReferenten: Tanja Simbeck\, Marina Schönberger und Irina Schäfer\nZielgruppe : für alle Frauen\, die eine leitende Aufgabe in der Gemeinde haben und Frauen\, die sich gern etwas Zeit für sich selbst und Gott nehmen möchten. Bibelkenntnisse werden nicht vorausgesetzt. \nVerantwortlich : Tatjana Büchler\nVeranstaltungsort : Missionszentrum der Kirchlichen Gemeinschaft e.V.\, Am Haintor 13\, 37242 Bad Sooden-Allendorft\nAnreise : Freitag\, den 26.6.26 ab 16 Uhr (nur nach Absprache früher möglich)\nAbreise : Sonntag 28.06.26 ca. 13.30 – 14 Uhr (nach dem Mittagessen) \nKosten : 125\,- € inkl. Übernachtung mit Vollverpflegung und Seminarkosten\, 25\,- € Kursmappe (freiwillig) \n“Stufen des Lebens” ermutigt mit eindrücklichen Bodenbildern und auf der Grundlage biblischer Texte Glauben und Leben neu in Beziehung zu bringen. Mehr Informationen zu Stufen des Lebens sind auf ihrer Homepage zu finden. Jede Frau ist eingeladen\, sich auf eine Begegnung mit Gottes Wort und sich selbst einzulassen. Die Gruppe wird aufgrund der Intensivität und Intimität absichtlich klein gehalten\, darum gibt es nur beschränkt Plätze! \n  \nAnmeldung Hier oder bei Tatjana Büchler 0177 8446258
URL:http://kirchlichegemeinschaft.de/termin/stufen-des-lebens/
LOCATION:Kirchliche Gemeinschaft e.V.\, Am Haintor 13\, Bad Sooden-Allendorf\, 37242\, Deutschland
ATTACH;FMTTYPE=image/png:http://kirchlichegemeinschaft.de/wp-content/uploads/2026/04/Stufen_des_Lebens_26.png
ORGANIZER;CN="Kirchliche Gemeinschaft e.V.":MAILTO:info@kg-bsa.de
END:VEVENT
END:VCALENDAR