BEGIN:VCALENDAR
VERSION:2.0
PRODID:-//Kirchliche Gemeinschaft e.V. - ECPv6.15.20//NONSGML v1.0//EN
CALSCALE:GREGORIAN
METHOD:PUBLISH
X-WR-CALNAME:Kirchliche Gemeinschaft e.V.
X-ORIGINAL-URL:http://kirchlichegemeinschaft.de
X-WR-CALDESC:Veranstaltungen für Kirchliche Gemeinschaft e.V.
REFRESH-INTERVAL;VALUE=DURATION:PT1H
X-Robots-Tag:noindex
X-PUBLISHED-TTL:PT1H
BEGIN:VTIMEZONE
TZID:Europe/Helsinki
BEGIN:DAYLIGHT
TZOFFSETFROM:+0200
TZOFFSETTO:+0300
TZNAME:EEST
DTSTART:20250330T010000
END:DAYLIGHT
BEGIN:STANDARD
TZOFFSETFROM:+0300
TZOFFSETTO:+0200
TZNAME:EET
DTSTART:20251026T010000
END:STANDARD
BEGIN:DAYLIGHT
TZOFFSETFROM:+0200
TZOFFSETTO:+0300
TZNAME:EEST
DTSTART:20260329T010000
END:DAYLIGHT
BEGIN:STANDARD
TZOFFSETFROM:+0300
TZOFFSETTO:+0200
TZNAME:EET
DTSTART:20261025T010000
END:STANDARD
BEGIN:DAYLIGHT
TZOFFSETFROM:+0200
TZOFFSETTO:+0300
TZNAME:EEST
DTSTART:20270328T010000
END:DAYLIGHT
BEGIN:STANDARD
TZOFFSETFROM:+0300
TZOFFSETTO:+0200
TZNAME:EET
DTSTART:20271031T010000
END:STANDARD
END:VTIMEZONE
BEGIN:VEVENT
DTSTART;VALUE=DATE:20260206
DTEND;VALUE=DATE:20260209
DTSTAMP:20260423T180324
CREATED:20251111T235005Z
LAST-MODIFIED:20251203T111500Z
UID:23743-1770336000-1770595199@kirchlichegemeinschaft.de
SUMMARY:Seelsorgeschulung (S5)
DESCRIPTION:Wir sind miteinander vernetzt. Diese große Metapher kennzeichnet unsere Zeit. Aus systemischer Sicht wollen wir wahrnehmen\, wie wir in Welt und Kultur\, in Gesellschaft und sozialen Gruppen vielfältig beeinflusst werden. Das Sein des Menschen ist ein Sein in Beziehungen. Dieses Seminar bietet eine Einführung in systemisches Denken auf biblisch-theologischer Grundlage. Verankert wird der systemische Ansatz im biblisch-theologischen Gottes- und Menschenbild: Der Gott in Beziehung (Trinität) macht Menschen in Beziehung. In diesem Seminar lernen die Teilnehmer systemisch denken\, eigenen Interaktionsmustern auf die Spur zu kommen und den Interaktionszirkel anzuwenden. Und wir gehen der Frage nach\, wie Kommunikation und Beziehung besser gelingen können. \nTHEMA: „Total vernetzt – Einführung in systemisches Denken“ \nREFERENT: Gebhard Weik \nORT: JFZ Koinonia \nVERANTWORTLICH: Waldemar Lies & Viktor Büchler \nZIELGRUPPE: Alle \nAN- UND ABREISE: Freitag ab 17 Uhr / Sonntag nachmittags \nZur Anmeldung
URL:http://kirchlichegemeinschaft.de/termin/seelsorgeschulung-s5/
LOCATION:Jugend- & Freizeitzentrum Koinonia\, Zum Jugendheim 6-8\, Biebergemünd - Bieber\, Hessen\, 63599\, Deutschland
ORGANIZER;CN="Kirchliche Gemeinschaft e.V.":MAILTO:info@kg-bsa.de
END:VEVENT
BEGIN:VEVENT
DTSTART;VALUE=DATE:20260220
DTEND;VALUE=DATE:20260223
DTSTAMP:20260423T180324
CREATED:20251111T235657Z
LAST-MODIFIED:20251130T190439Z
UID:23747-1771545600-1771804799@kirchlichegemeinschaft.de
SUMMARY:Vater-Sohn-Wochenende
DESCRIPTION:Im Alltag bleibt oft wenig Zeit für gemeinsame Momente: Arbeit\, Schule\, Hobbys – da geht die Zeit für Familie manchmal unter. Genau deshalb laden wir euch ein! Verbringt ein Wochenende voller Abenteuer\, Spaß und gemeinsamer Erlebnisse – und stärkt dabei eure Beziehung zueinander und zu Gott. Was euch erwartet: Wir arbeiten gemeinsam an spannenden Projekten\, stellen uns Herausforderungen und erleben Aktionen\, die Mut\, Teamgeist und jede Menge Spaß mit sich bringen. Neben diesen Aktivitäten nehmen wir uns bewusst Zeit für anschauliche Impulse aus der Bibel. Dabei gibt es Gelegenheiten\, als Vater und Sohn gemeinsam über Glauben\, Leben und persönliche Fragen ins Gespräch zu kommen. Alles in einer entspannten Atmosphäre\, in der niemand überfordert wird\, aber jeder ermutigt nach Hause gehen kann. \nThema: „Bauen fürs Leben – gemeinsam\, stabil\, beständig“ \nReferent: David Schaermann \nZielgruppe: Für Jungen von 8 bis 14 Jahren und ihre Väter \nOrt: JFZ Koinonia \nVerantwortlich: David Schaermann \nAn- und Abreise: Freitag ab 16 Uhr / Sonntag nachmittags \nZur Anmeldung
URL:http://kirchlichegemeinschaft.de/termin/vater-sohn-wochenende/
LOCATION:Jugend- & Freizeitzentrum Koinonia\, Zum Jugendheim 6-8\, Biebergemünd - Bieber\, Hessen\, 63599\, Deutschland
ORGANIZER;CN="Kirchliche Gemeinschaft e.V.":MAILTO:info@kg-bsa.de
END:VEVENT
BEGIN:VEVENT
DTSTART;VALUE=DATE:20260222
DTEND;VALUE=DATE:20260228
DTSTAMP:20260423T180324
CREATED:20251111T235901Z
LAST-MODIFIED:20251112T000116Z
UID:23749-1771718400-1772236799@kirchlichegemeinschaft.de
SUMMARY:Arbeitsfreizeit
DESCRIPTION:Mit dem Frühling kommt neues Leben ins Freizeitzentrum – und wir packen gemeinsam an! Seid dabei und helft mit\, Haus und Gelände fit für die kommende Saison zu machen. Was wir vorhaben: Renovierungs- und Instandhaltungsmaßnahmen: Streichen\, Reparieren\, Ausbessern\, kleine Bauprojekte\, Geländearbeiten: Sträucher schneiden\, Baumschnitt durchführen\, Wege pflegen. Was euch erwartet: Gemeinschaft erleben – zusammen arbeiten\, lachen und genießen; Wohlfühlpaket: Leckere Verpflegung & gemütliche Unterkunft inklusive. Vielfältige Aufgaben: Für jede und jeden ist etwas Passendes dabei. Wer kann mitmachen? Alle\, die Lust haben\, mit anzupacken – egal ob jung oder alt\, mit oder ohne handwerklicher Erfahrung\, und das alles natürlich kostenlos! \nThema: „Wir packen gemeinsam an!“ \nZielgruppe: Alle\, die sich praktisch betätigen wollen. \nOrt: JFZ Koinonia \nVerantwortlich: David Schaermann \nAn- und Abreise: Sonntag ab 16 Uhr / Freitag nachmittags
URL:http://kirchlichegemeinschaft.de/termin/arbeitsfreizeit-2/
LOCATION:Jugend- & Freizeitzentrum Koinonia\, Zum Jugendheim 6-8\, Biebergemünd - Bieber\, Hessen\, 63599\, Deutschland
ORGANIZER;CN="Kirchliche Gemeinschaft e.V.":MAILTO:info@kg-bsa.de
END:VEVENT
END:VCALENDAR