BEGIN:VCALENDAR
VERSION:2.0
PRODID:-//Kirchliche Gemeinschaft e.V. - ECPv6.15.20//NONSGML v1.0//EN
CALSCALE:GREGORIAN
METHOD:PUBLISH
X-WR-CALNAME:Kirchliche Gemeinschaft e.V.
X-ORIGINAL-URL:http://kirchlichegemeinschaft.de
X-WR-CALDESC:Veranstaltungen für Kirchliche Gemeinschaft e.V.
REFRESH-INTERVAL;VALUE=DURATION:PT1H
X-Robots-Tag:noindex
X-PUBLISHED-TTL:PT1H
BEGIN:VTIMEZONE
TZID:Europe/Helsinki
BEGIN:DAYLIGHT
TZOFFSETFROM:+0200
TZOFFSETTO:+0300
TZNAME:EEST
DTSTART:20250330T010000
END:DAYLIGHT
BEGIN:STANDARD
TZOFFSETFROM:+0300
TZOFFSETTO:+0200
TZNAME:EET
DTSTART:20251026T010000
END:STANDARD
BEGIN:DAYLIGHT
TZOFFSETFROM:+0200
TZOFFSETTO:+0300
TZNAME:EEST
DTSTART:20260329T010000
END:DAYLIGHT
BEGIN:STANDARD
TZOFFSETFROM:+0300
TZOFFSETTO:+0200
TZNAME:EET
DTSTART:20261025T010000
END:STANDARD
BEGIN:DAYLIGHT
TZOFFSETFROM:+0200
TZOFFSETTO:+0300
TZNAME:EEST
DTSTART:20270328T010000
END:DAYLIGHT
BEGIN:STANDARD
TZOFFSETFROM:+0300
TZOFFSETTO:+0200
TZNAME:EET
DTSTART:20271031T010000
END:STANDARD
END:VTIMEZONE
BEGIN:VEVENT
DTSTART;VALUE=DATE:20260116
DTEND;VALUE=DATE:20260119
DTSTAMP:20260423T193343
CREATED:20250126T224239Z
LAST-MODIFIED:20251130T184938Z
UID:23337-1768521600-1768780799@kirchlichegemeinschaft.de
SUMMARY:BibelStudienTage I - Eine intensive Begegnung mit Gottes Wort!
DESCRIPTION:An diesem Wochenende werden wir uns die theologische Begründung der Gemeindegründung anschauen und entdecken\, wie sie in der Praxis aussieht. Gemeinsam werden wir ebenso über verschiedene Wege und wichtige Elemente der Gemeindeerneuerung sprechen und auch dort einen Blick darauf werfen\, wie sie in Gemeinden umgesetzt wird.\nNicht bloße Information\, sondern auch Inspiration und Vision sollen unsere gemeinsame Zeit prägen – damit Neugründungen und Erneuerungen auch in unseren Kreisen denkbar und lebendig werden. \nReferent: Oliver Ahlfeld\nVerantwortlich: Waldemar Lies & Viktor Janke \nAN- UND ABREISE:\nFreitag ab 17 Uhr\nSonntag ca. 15 Uhr \nZur Anmeldung
URL:http://kirchlichegemeinschaft.de/termin/bibelstudientage-ii-eine-intensive-begegnung-mit-gottes-wort/
LOCATION:Jugend- & Freizeitzentrum Koinonia\, Zum Jugendheim 6-8\, Biebergemünd - Bieber\, Hessen\, 63599\, Deutschland
ORGANIZER;CN="Kirchliche Gemeinschaft e.V.":MAILTO:info@kg-bsa.de
END:VEVENT
END:VCALENDAR