BEGIN:VCALENDAR
VERSION:2.0
PRODID:-//Kirchliche Gemeinschaft e.V. - ECPv6.15.20//NONSGML v1.0//EN
CALSCALE:GREGORIAN
METHOD:PUBLISH
X-WR-CALNAME:Kirchliche Gemeinschaft e.V.
X-ORIGINAL-URL:http://kirchlichegemeinschaft.de
X-WR-CALDESC:Veranstaltungen für Kirchliche Gemeinschaft e.V.
REFRESH-INTERVAL;VALUE=DURATION:PT1H
X-Robots-Tag:noindex
X-PUBLISHED-TTL:PT1H
BEGIN:VTIMEZONE
TZID:Europe/Helsinki
BEGIN:DAYLIGHT
TZOFFSETFROM:+0200
TZOFFSETTO:+0300
TZNAME:EEST
DTSTART:20240331T010000
END:DAYLIGHT
BEGIN:STANDARD
TZOFFSETFROM:+0300
TZOFFSETTO:+0200
TZNAME:EET
DTSTART:20241027T010000
END:STANDARD
BEGIN:DAYLIGHT
TZOFFSETFROM:+0200
TZOFFSETTO:+0300
TZNAME:EEST
DTSTART:20250330T010000
END:DAYLIGHT
BEGIN:STANDARD
TZOFFSETFROM:+0300
TZOFFSETTO:+0200
TZNAME:EET
DTSTART:20251026T010000
END:STANDARD
BEGIN:DAYLIGHT
TZOFFSETFROM:+0200
TZOFFSETTO:+0300
TZNAME:EEST
DTSTART:20260329T010000
END:DAYLIGHT
BEGIN:STANDARD
TZOFFSETFROM:+0300
TZOFFSETTO:+0200
TZNAME:EET
DTSTART:20261025T010000
END:STANDARD
END:VTIMEZONE
BEGIN:VEVENT
DTSTART;VALUE=DATE:20251212
DTEND;VALUE=DATE:20251215
DTSTAMP:20260423T211516
CREATED:20250126T224346Z
LAST-MODIFIED:20251005T212529Z
UID:23339-1765497600-1765756799@kirchlichegemeinschaft.de
SUMMARY:Männerwochenende
DESCRIPTION:Wir laden Euch herzlich zu einem unvergesslichen Männerwochenende ein! Dort wollen wir gemeinsam als Männer eine Zeit der besonderen Gemeinschaft erleben. Egal ob Ihr im Glauben schon lange unterwegs oder erst auf der Suche nach Gott seid\, dieses Wochenende ist eine wunderbare Gelegenheit\, Gemeinschaft mit anderen Männern zu erleben und neue Freundschaften zu knüpfen. Es erwarten euch inspirierende Impulse\, tiefgehende Gespräche und Zeit\, um einander kennenzulernen.\nLeitung: Waldemar Lies\, David Schaermann \n  \nAnmeldelink: Männerwochenende Anmeldung \n 
URL:http://kirchlichegemeinschaft.de/termin/maennerwochenende/
LOCATION:Jugend- & Freizeitzentrum Koinonia\, Zum Jugendheim 6-8\, Biebergemünd - Bieber\, Hessen\, 63599\, Deutschland
ORGANIZER;CN="Kirchliche Gemeinschaft e.V.":MAILTO:info@kg-bsa.de
END:VEVENT
END:VCALENDAR