BEGIN:VCALENDAR
VERSION:2.0
PRODID:-//Kirchliche Gemeinschaft e.V. - ECPv6.15.20//NONSGML v1.0//EN
CALSCALE:GREGORIAN
METHOD:PUBLISH
X-ORIGINAL-URL:http://kirchlichegemeinschaft.de
X-WR-CALDESC:Veranstaltungen für Kirchliche Gemeinschaft e.V.
REFRESH-INTERVAL;VALUE=DURATION:PT1H
X-Robots-Tag:noindex
X-PUBLISHED-TTL:PT1H
BEGIN:VTIMEZONE
TZID:Europe/Helsinki
BEGIN:DAYLIGHT
TZOFFSETFROM:+0200
TZOFFSETTO:+0300
TZNAME:EEST
DTSTART:20240331T010000
END:DAYLIGHT
BEGIN:STANDARD
TZOFFSETFROM:+0300
TZOFFSETTO:+0200
TZNAME:EET
DTSTART:20241027T010000
END:STANDARD
BEGIN:DAYLIGHT
TZOFFSETFROM:+0200
TZOFFSETTO:+0300
TZNAME:EEST
DTSTART:20250330T010000
END:DAYLIGHT
BEGIN:STANDARD
TZOFFSETFROM:+0300
TZOFFSETTO:+0200
TZNAME:EET
DTSTART:20251026T010000
END:STANDARD
BEGIN:DAYLIGHT
TZOFFSETFROM:+0200
TZOFFSETTO:+0300
TZNAME:EEST
DTSTART:20260329T010000
END:DAYLIGHT
BEGIN:STANDARD
TZOFFSETFROM:+0300
TZOFFSETTO:+0200
TZNAME:EET
DTSTART:20261025T010000
END:STANDARD
END:VTIMEZONE
BEGIN:VEVENT
DTSTART;VALUE=DATE:20251107
DTEND;VALUE=DATE:20251110
DTSTAMP:20260423T225854
CREATED:20250126T223400Z
LAST-MODIFIED:20250126T223400Z
UID:23326-1762473600-1762732799@kirchlichegemeinschaft.de
SUMMARY:Seelsorgeschulung   Modul 6b: Menschen beraten – Die Kunst verstehender Gespräche in der Seelsorge
DESCRIPTION:Fortsetzung des Seminars über Gesprächsführung (siehe März). Das Erlernte wird in Kleingruppen weiter eingeübt gemäß dem Motto „Mich selbst und andere besser verstehen lernen“.\nAm Praxistag üben wir Gesprächsführung in Kleingruppen und das\, was wir schon gelernt haben\, immer unter dem Motto: „Mich selbst und andere besser verstehen lernen“. Die Übungen in der Kleingruppe werden durch die Kursleiter reflektiert. Das wichtigste Werkzeug in der Beratung sind wir selbst\, und nur wer sich selbst gut kennt\, kann hilfreich reagieren und beraten.\nReferent: Gebhard Weik
URL:http://kirchlichegemeinschaft.de/termin/seelsorgeschulung-modul-6b-menschen-beraten-die-kunst-verstehender-gespraeche-in-der-seelsorge/
LOCATION:Evangelisch Lutherische Brüdergemeinde Enger e.V.\, Dürkoppstraße 1\, Enger\, 32130\, Deutschland
ORGANIZER;CN="Kirchliche Gemeinschaft e.V.":MAILTO:info@kg-bsa.de
END:VEVENT
BEGIN:VEVENT
DTSTART;VALUE=DATE:20251115
DTEND;VALUE=DATE:20251116
DTSTAMP:20260423T225854
CREATED:20250126T223548Z
LAST-MODIFIED:20250126T223548Z
UID:23328-1763164800-1763251199@kirchlichegemeinschaft.de
SUMMARY:Leitertreffen- Geistlich leiten und Wechsel gestalten
DESCRIPTION:Wie gelingt geistliche Leitung\, und was braucht es\, damit ein Leitungswechsel in der Gemeinde reibungslos verläuft? Ein Leitungswechsel passiert nicht von allein. Warum scheitern manche Wechsel\, und wie lassen sich damit verbundene Konflikte vermeiden? In diesem Treffen wollen wir genau darüber sprechen\, wie wir als Leiter geistliche Führung effektiv gestalten und den Übergang zu einer neuen Leitung gut begleiten. Gemeinsam möchten wir über diese Fragen nachdenken\, voneinander lernen\, einander zuhören und uns im Gebet stärken.\nKlaus Ehrenfeuchter wird mit einem Impulsreferat in das Thema einführen und wertvolle Praxisbeispiele geben. Dieses Treffen richtet sich an alle\, die Verantwortung in der Gemeinde- oder Jugendarbeit tragen oder Interesse an dem Thema haben.\nReferent Klaus Ehrenfeuchter war viele Jahre Leiter des Fachbereichs Gemeindearbeit im Liebenzeller Gemeinschaftsverband. Er ist Vater von fünf Kindern\, gelernter Schreiner und studierte Theologie am Theologischen Seminar der Liebenzeller Mission. Seine umfangreiche Erfahrung in der Gemeindearbeit an verschiedenen Orten macht ihn zu einem wertvollen Impulsgeber für unser Thema.\nLeitung: Waldemar Lies\, Viktor Janke
URL:http://kirchlichegemeinschaft.de/termin/leitertreffen-geistlich-leiten-und-wechsel-gestalten/
LOCATION:Kirchliche Gemeinschaft e.V.\, Am Haintor 13\, Bad Sooden-Allendorf\, 37242\, Deutschland
ORGANIZER;CN="Kirchliche Gemeinschaft e.V.":MAILTO:info@kg-bsa.de
END:VEVENT
BEGIN:VEVENT
DTSTART;VALUE=DATE:20251121
DTEND;VALUE=DATE:20251124
DTSTAMP:20260423T225854
CREATED:20250126T223703Z
LAST-MODIFIED:20250126T223703Z
UID:23330-1763683200-1763942399@kirchlichegemeinschaft.de
SUMMARY:Eheseminar
DESCRIPTION:Eine gelungene Partnerschaft birgt ein hohes Potenzial an Synergie. Wissenschaftler\, die darüber forschten\, bezweifeln dies nicht: Wo Partner sich in ihrer Beziehung gegenseitig schützen und fördern\, wirkt sich das nicht nur auf ihre psychische Gesundheit und Stabilität\, nicht nur auf die Körperlichkeit und das Immunsystem äußerst positiv aus. Von beiden gehen auch wertvolle Impulse in eure Familie\, euer Berufsleben\, in die Gesellschaft und nicht zuletzt in die christliche Gemeinde. Ein großartiger Gedanke Gottes! Zu solch einer Partnerschaft will dieses Wochenende helfen: Lasst euch überraschen!\nAls Referenten sind Utina und Dr. Michael Hübner an diesem Wochenende dabei.\nLeitung: Waldemar Lies
URL:http://kirchlichegemeinschaft.de/termin/eheseminar/
LOCATION:Jugend- & Freizeitzentrum Koinonia\, Zum Jugendheim 6-8\, Biebergemünd - Bieber\, Hessen\, 63599\, Deutschland
ORGANIZER;CN="Kirchliche Gemeinschaft e.V.":MAILTO:info@kg-bsa.de
END:VEVENT
BEGIN:VEVENT
DTSTART;VALUE=DATE:20251121
DTEND;VALUE=DATE:20251124
DTSTAMP:20260423T225854
CREATED:20250126T223952Z
LAST-MODIFIED:20250126T223952Z
UID:23332-1763683200-1763942399@kirchlichegemeinschaft.de
SUMMARY:Fokus-Wochenende für Jugendliche und Junge Erwachsene
DESCRIPTION:Das Fokus-Wochenende lädt Jugendliche und Junge Erwachsene auf den Flensunger Hof in Mücke ein\, um den Blick auf das zu richten\, was im Leben wirklich zählt. Fernab vom Alltagsstress hast du die Möglichkeit\, in tiefe Bibelarbeiten einzutauchen\, inspirierende Gemeinschaft mit Menschen über deine eigene Gemeinde hinaus zu erleben und wertvolle neue Freundschaften zu knüpfen. Freue dich auf ein Wochenende voller interessanter Gespräche\, abwechslungsreicher Freizeitangebote wie gemeinsame Spiele und Sport sowie auf die Chance\, deinen Glauben in Ruhe zu reflektieren und zu stärken. Wenn du dich nach echter Verbundenheit und geistlicher Tiefe sehnst\, dann ist dieses Wochenende genau das Richtige für dich!\nLeitung: Viktor Janke und Team
URL:http://kirchlichegemeinschaft.de/termin/fokus-wochenende-fuer-jugendliche-und-junge-erwachsene/
LOCATION:Flensunger Hof\, Am Flensunger Hof 10-11\, Mücke-Flensungen\, Hessen\, 35325\, Germany
ORGANIZER;CN="Kirchliche Gemeinschaft e.V.":MAILTO:info@kg-bsa.de
END:VEVENT
BEGIN:VEVENT
DTSTART;VALUE=DATE:20251128
DTEND;VALUE=DATE:20251201
DTSTAMP:20260423T225854
CREATED:20250126T224102Z
LAST-MODIFIED:20250927T082224Z
UID:23335-1764288000-1764547199@kirchlichegemeinschaft.de
SUMMARY:Frauenwochenende II
DESCRIPTION:Du bist eingeladen\, einen Schritt aus dem stressigen Alltag zu wagen\, um zur Ruhe zu kommen\, den Austausch mit anderen Frauen in einer gemütlichen Teerunde zu genießen oder einfach auch bei einem Spaziergang deinem Schöpfer zu begegnen.\nAn dem Wochenende wollen wir dich vor allen Dingen durch Gottes Wort in verschiedenen Vorträgen und Bibelarbeiten ermutigen und zurüsten\, damit du motiviert und gestärkt wieder in deinen Alltag strahlend zurückkehren kannst.\nLeitung: Tatjana Büchler \nAnmeldungslink: https://forms.gle/FoixChPmmY6dzr1p8
URL:http://kirchlichegemeinschaft.de/termin/frauenwochenende-ii/
LOCATION:Jugend- & Freizeitzentrum Koinonia\, Zum Jugendheim 6-8\, Biebergemünd - Bieber\, Hessen\, 63599\, Deutschland
ORGANIZER;CN="Kirchliche Gemeinschaft e.V.":MAILTO:info@kg-bsa.de
END:VEVENT
END:VCALENDAR