BEGIN:VCALENDAR
VERSION:2.0
PRODID:-//Kirchliche Gemeinschaft e.V. - ECPv6.15.20//NONSGML v1.0//EN
CALSCALE:GREGORIAN
METHOD:PUBLISH
X-ORIGINAL-URL:http://kirchlichegemeinschaft.de
X-WR-CALDESC:Veranstaltungen für Kirchliche Gemeinschaft e.V.
REFRESH-INTERVAL;VALUE=DURATION:PT1H
X-Robots-Tag:noindex
X-PUBLISHED-TTL:PT1H
BEGIN:VTIMEZONE
TZID:Europe/Helsinki
BEGIN:DAYLIGHT
TZOFFSETFROM:+0200
TZOFFSETTO:+0300
TZNAME:EEST
DTSTART:20240331T010000
END:DAYLIGHT
BEGIN:STANDARD
TZOFFSETFROM:+0300
TZOFFSETTO:+0200
TZNAME:EET
DTSTART:20241027T010000
END:STANDARD
BEGIN:DAYLIGHT
TZOFFSETFROM:+0200
TZOFFSETTO:+0300
TZNAME:EEST
DTSTART:20250330T010000
END:DAYLIGHT
BEGIN:STANDARD
TZOFFSETFROM:+0300
TZOFFSETTO:+0200
TZNAME:EET
DTSTART:20251026T010000
END:STANDARD
BEGIN:DAYLIGHT
TZOFFSETFROM:+0200
TZOFFSETTO:+0300
TZNAME:EEST
DTSTART:20260329T010000
END:DAYLIGHT
BEGIN:STANDARD
TZOFFSETFROM:+0300
TZOFFSETTO:+0200
TZNAME:EET
DTSTART:20261025T010000
END:STANDARD
END:VTIMEZONE
BEGIN:VEVENT
DTSTART;VALUE=DATE:20250905
DTEND;VALUE=DATE:20250908
DTSTAMP:20260424T020554
CREATED:20250126T222841Z
LAST-MODIFIED:20250126T222841Z
UID:23321-1757030400-1757289599@kirchlichegemeinschaft.de
SUMMARY:Mutter-Tochter-Wochenende
DESCRIPTION:Mütter und ihre Töchter – eine gute Beziehung kann sehr bereichernd für beide sein. Uns ist es wichtig\, dies zu unterstützen und zu fördern. Wir wollen die Möglichkeit geben\, die eigene Mutter-Tochter-Beziehung zu stärken und mit anderen Müttern und Töchtern in den Austausch zu kommen. Eingeladen sind alle Mütter mit ihren Töchtern im Alter von 12-15 Jahren.\nLeitung: Tatjana Büchler\, Bettina Lippert
URL:http://kirchlichegemeinschaft.de/termin/mutter-tochter-wochenende-2/
LOCATION:Jugend- & Freizeitzentrum Koinonia\, Zum Jugendheim 6-8\, Biebergemünd - Bieber\, Hessen\, 63599\, Deutschland
ORGANIZER;CN="Kirchliche Gemeinschaft e.V.":MAILTO:info@kg-bsa.de
END:VEVENT
BEGIN:VEVENT
DTSTART;VALUE=DATE:20250919
DTEND;VALUE=DATE:20250922
DTSTAMP:20260424T020554
CREATED:20250126T223229Z
LAST-MODIFIED:20250705T082215Z
UID:23323-1758240000-1758499199@kirchlichegemeinschaft.de
SUMMARY:Missions- und Evangelisationstage (MET) 2025
DESCRIPTION:Herzliche Einladung zu den Missions- und Evangelisationstagen der Kirchlichen Gemeinschaft!\nAlle zwei Jahre öffnet sich ein ganz besonderes Wochenende voller Begegnungen\, Inspiration und neuer Perspektiven. Bereits am Freitagabend starten die Jugendlichen gemeinsam – sie hören auf Gottes Wort\, teilen ihre Fragen und erleben echte Gemeinschaft. \nAm Samstag beginnt das Herzstück: Der feierliche Eröffnungsgottesdienst und der evangelistische Abend laden dazu ein\, den Glauben neu zu entdecken und sich von Gottes Liebe berühren zu lassen. In inspirierenden Workshops kannst du deinen Glauben vertiefen\, praktische Impulse mitnehmen und dich mit Mitarbeitern und Missionaren austauschen. Hier ist Raum für ehrliche Gespräche\, neue Freundschaften und das Kennenlernen von Glaubensgeschwistern aus anderen Gemeinden. \nDer Sonntag schenkt einen würdigen Abschluss: Im gemeinsamen Gottesdienst mit Abendmahl feiern wir die Verbundenheit in Christus und lassen uns für den Alltag stärken. \nHalte dir dieses Wochenende frei – es lohnt sich\, dabei zu sein! Lass dich einladen\, Teil einer wachsenden Gemeinschaft zu werden und neue Wege im Glauben zu entdecken.“ \n  \nProgramm\n  \nFREITAG\, 19.09. \n20:00 Uhr · Jugendgottesdienst \nMit Edgar Luz \nAnschließend · Abendprogramm \n  \nSAMSTAG\, 20.09. \nzusammen:wachsen \n12:00 Uhr · Eröffnungsgottesdienst \nMit Predigt von Manfred Müller und Impulsreferat von Prof. Dr. Eduard Ferderer \n15:30 – 16:30 Uhr · Workshops \n\n „Verfolgte Gemeinde“ (Manfred Müller) \n „Zwischen Verfolgung und Glaubenstreue – Die Geschichte der evangelisch-lutherischen Brüdergemeinden“ (Prof. Dr. Eduard Ferderer) \n „Generationen im Glauben: Segen\, Spannungen und Chancen unserer Gemeinden“ (Edgar Luz)\n\n18:30 Uhr · Evangelistischer Abend \nzusammen:wachsen \nEdgar Luz \n  \nSONNTAG\, 21.09. \n10:00 Uhr · Festgottesdienst mit Abendmahl \nzusammen:wachsen \nDr. Markus Till \nAnschließend · Zeit für Gemeinschaft \n  \nFÜR UNSERE JUGEND \nWir bitt en alle Jugendliche sich vorher zur Jugendveranstaltung \nanzumelden. Alle Fragen zur Anmeldung und Übernachtung \nbitte mit unseren Jugendreferenten Viktor Janke klären. \n0176 235 156 53 | viktor.janke@kg-bsa.de \n  \nFÜR UNSERE KINDER\nParallel zu den Gottesdiensten am Samstag und Sonntag gibt es ein besonderes\nKinderprogramm für alle im Alter von 5 bis 12 Jahren. Ein engagiertes Team\nvom kids-team und Mitarbeitenden aus unseren Gemeinden gestaltet\nein abwechslungsreiches Programm mit spannenden biblischen Geschichten\, fröhlichen\nLiedern und tollen Spielen – gute Gemeinschaft und wertvolle Impulse garantiert! \n  \nUNSERE REDNER \n \nEdgar Luz \nRektor der Interkulturellen Theologischen Akademie (ITA) \n  \n \nManfred Müller \nMissionsleiter der Hilfsaktion Märtyrerkirche (HMK) \n  \n \nProf. Dr. Eduard Ferderer \nProfessor für Kirchengeschichte\, Internationale Hochschule Liebenzell (IHL) \n  \n \nDr. Markus Till \nPromovierter Biologe\, Laientheologe\, Buchautor \n  \nANMELDUNG\nUm die Veranstaltung besser vorbereiten und \nplanen zu können\, bitt en wir um eine Anmeldung \nbis zum 01. September 2025 im Büro \nder Kirchlichen Gemeinschaft bei Frau Andrea Lange \noder online unter kirchlichegemeinschaft.de/MET25 \n  \nADRESSE \nNeckarhalle Obrigheim \nAm Park 10 \n74847 Obrigheim \n  \nVERANSTALTER \nKirchliche Gemeinschaft \nder ev.-luth. Brüdergemeinden e.V. \nAm Haintor 13 \n37242 Bad Sooden-Allendorf \nTelefon: 05652 – 4135 \nE-Mail: info@kg-bsa.de \nwww.kirchlichegemeinschaft.de
URL:http://kirchlichegemeinschaft.de/termin/missions-und-evangelisationstage/
LOCATION:Neckarhalle Obrigheim\, Am Park 10\, 74847 Obrigheim\, Obrigheim\, 74847\, Germany
END:VEVENT
END:VCALENDAR