BEGIN:VCALENDAR
VERSION:2.0
PRODID:-//Kirchliche Gemeinschaft e.V. - ECPv6.15.20//NONSGML v1.0//EN
CALSCALE:GREGORIAN
METHOD:PUBLISH
X-ORIGINAL-URL:http://kirchlichegemeinschaft.de
X-WR-CALDESC:Veranstaltungen für Kirchliche Gemeinschaft e.V.
REFRESH-INTERVAL;VALUE=DURATION:PT1H
X-Robots-Tag:noindex
X-PUBLISHED-TTL:PT1H
BEGIN:VTIMEZONE
TZID:Europe/Helsinki
BEGIN:DAYLIGHT
TZOFFSETFROM:+0200
TZOFFSETTO:+0300
TZNAME:EEST
DTSTART:20240331T010000
END:DAYLIGHT
BEGIN:STANDARD
TZOFFSETFROM:+0300
TZOFFSETTO:+0200
TZNAME:EET
DTSTART:20241027T010000
END:STANDARD
BEGIN:DAYLIGHT
TZOFFSETFROM:+0200
TZOFFSETTO:+0300
TZNAME:EEST
DTSTART:20250330T010000
END:DAYLIGHT
BEGIN:STANDARD
TZOFFSETFROM:+0300
TZOFFSETTO:+0200
TZNAME:EET
DTSTART:20251026T010000
END:STANDARD
BEGIN:DAYLIGHT
TZOFFSETFROM:+0200
TZOFFSETTO:+0300
TZNAME:EEST
DTSTART:20260329T010000
END:DAYLIGHT
BEGIN:STANDARD
TZOFFSETFROM:+0300
TZOFFSETTO:+0200
TZNAME:EET
DTSTART:20261025T010000
END:STANDARD
END:VTIMEZONE
BEGIN:VEVENT
DTSTART;VALUE=DATE:20250510
DTEND;VALUE=DATE:20250511
DTSTAMP:20260424T075825
CREATED:20250126T221658Z
LAST-MODIFIED:20250126T221658Z
UID:23305-1746835200-1746921599@kirchlichegemeinschaft.de
SUMMARY:KOINONIA - Freundestag
DESCRIPTION:Wir laden Euch herzlich ein zu unserem Freundestag im Freizeitzentrum! Lasst uns gemeinsam einen Tag voller Freude\, Dankbarkeit und Gemeinschaft erleben. Diesen Tag wollen wir nutzen\, um uns bei euch zu bedanken und um Freundschaften zu vertiefen. Was erwartet Euch?\n• Herzliches Beisammensein: Genießen wir gemeinsam einen Tag voller Begegnungen\, Gespräche und gemeinsamer Erinnerungen.\n• Inspirierende Programmpunkte: Ein buntes Programm mit Andacht\, Musik\, Spiel und Spaß für Groß und Klein.\n• Leckeres Essen: Ein gemeinsames Mittagessen und gemütliches Kaffeetrinken runden den Tag kulinarisch ab.\n• Rückblick und Ausblick: Ein Blick auf die vergangenen Aktivitäten und Projekte des Freizeitzentrums und ein Ausblick auf zukünftige Pläne.\nFür wen? Dieser Tag ist für alle Freunde\, Unterstützer und Interessierte\, die unser Freizeitzentrum schätzen und mit uns verbunden sind.\nLeitung: David Schaermann und Team
URL:http://kirchlichegemeinschaft.de/termin/koinonia-freundestag/
LOCATION:Jugend- & Freizeitzentrum Koinonia\, Zum Jugendheim 6-8\, Biebergemünd - Bieber\, Hessen\, 63599\, Deutschland
ORGANIZER;CN="Kirchliche Gemeinschaft e.V.":MAILTO:info@kg-bsa.de
END:VEVENT
BEGIN:VEVENT
DTSTART;VALUE=DATE:20250516
DTEND;VALUE=DATE:20250519
DTSTAMP:20260424T075825
CREATED:20250126T221827Z
LAST-MODIFIED:20250310T131421Z
UID:23307-1747353600-1747612799@kirchlichegemeinschaft.de
SUMMARY:Frauenwochenende
DESCRIPTION:Du bist eingeladen\, einen Schritt aus dem stressigen Alltag zu wagen\, um zur Ruhe zu kommen\, den Austausch mit anderen Frauen in einer gemütlichen Teerunde zu genießen oder einfach auch bei einem Spaziergang deinem Schöpfer zu begegnen. An den Frauenwochenenden\, die im Frühjahr und Herbst stattfinden\, wollen wir dich vor allen Dingen durch Gottes Wort in verschiedenen Vorträgen und Bibelarbeiten ermutigen und zurüsten\, damit du motiviert und gestärkt wieder in deinen Alltag strahlend zurückkehren kannst.\nLeitung: Tatjana Büchler \n \n \n \n 
URL:http://kirchlichegemeinschaft.de/termin/frauenwochenende/
LOCATION:Jugend- & Freizeitzentrum Koinonia\, Zum Jugendheim 6-8\, Biebergemünd - Bieber\, Hessen\, 63599\, Deutschland
ORGANIZER;CN="Kirchliche Gemeinschaft e.V.":MAILTO:info@kg-bsa.de
END:VEVENT
BEGIN:VEVENT
DTSTART;VALUE=DATE:20250523
DTEND;VALUE=DATE:20250526
DTSTAMP:20260424T075825
CREATED:20250126T221954Z
LAST-MODIFIED:20250126T221954Z
UID:23309-1747958400-1748217599@kirchlichegemeinschaft.de
SUMMARY:Seelsorgeschulung Modul 4:  Alte Wurzeln neue Triebe 	– Der Mensch und seine familiäre Prägung
DESCRIPTION:Die Erfahrungen\, die wir in der Kindheit gemacht haben\, prägen unser Denken\, Fühlen und Handeln bis in die Gegenwart. Welche Einstellungen und Verhaltensmuster haben wir in unserer Ursprungsfamilie erlernt? Was ist eine Familien- und Geschwisterkonstellation? Wie arbeitet man in der Beratung mit diesem Instrument? Durch das Anschauen der eigenen familiären Prägungen lernen wir uns und unseren „Lebensstil“ besser kennen und verstehen. Nur was wir erkannt haben\, können wir mit Gottes Hilfe ändern.\nReferent: Werner Schäfer
URL:http://kirchlichegemeinschaft.de/termin/seelsorgeschulung-modul-4-alte-wurzeln-neue-triebe-der-mensch-und-seine-familiaere-praegung/
LOCATION:Jugend- & Freizeitzentrum Koinonia\, Zum Jugendheim 6-8\, Biebergemünd - Bieber\, Hessen\, 63599\, Deutschland
ORGANIZER;CN="Kirchliche Gemeinschaft e.V.":MAILTO:info@kg-bsa.de
END:VEVENT
BEGIN:VEVENT
DTSTART;VALUE=DATE:20250529
DTEND;VALUE=DATE:20250602
DTSTAMP:20260424T075825
CREATED:20250126T222056Z
LAST-MODIFIED:20250126T222056Z
UID:23311-1748476800-1748822399@kirchlichegemeinschaft.de
SUMMARY:Kinder - und Jungscharfreizeit
DESCRIPTION:Kinder aus anderen Gemeinden kennenlernen\, mehr von Gott erfahren\, eine tolle Zeit genießen … das und mehr kannst du bei der Kinder- und Jungscharfreizeit erleben. Auch 2025 wollen wir wieder die Möglichkeit dazu bieten. Eingeladen sind alle Kinder im Alter von 6-11 Jahren. Nähere Informationen und die Anmeldung findest du ab Januar 2025 auf der Homepage.\nLeitung: Bettina Lippert und Team
URL:http://kirchlichegemeinschaft.de/termin/kinder-und-jungscharfreizeit-2/
LOCATION:Jugend- & Freizeitzentrum Koinonia\, Zum Jugendheim 6-8\, Biebergemünd - Bieber\, Hessen\, 63599\, Deutschland
ORGANIZER;CN="Kirchliche Gemeinschaft e.V.":MAILTO:info@kg-bsa.de
END:VEVENT
BEGIN:VEVENT
DTSTART;VALUE=DATE:20250529
DTEND;VALUE=DATE:20250602
DTSTAMP:20260424T075825
CREATED:20250126T222235Z
LAST-MODIFIED:20250126T222235Z
UID:23313-1748476800-1748822399@kirchlichegemeinschaft.de
SUMMARY:Teeniefreizeit  Spaß\, Action & Gemeinschaft warten auf dich!
DESCRIPTION:Du bist zwischen 12 und 17 Jahre alt und hast Lust auf ein unvergessliches Wochenende voller Abenteuer? Dann melde dich jetzt zur Teeniefreizeit vom 29. Mai bis 1. Juni 2025 im Missionszentrum Bad Sooden-Allendorf an! Dich erwarten Sport\, Spiel und Spaß in Hülle und Fülle\, und dazu eine starke Gemeinschaft mit neuen und alten Freunden.\nWas steht auf dem Programm? \n\nSpannende Bibelarbeiten\, die dich in deinem Glauben stärken\nKreative Workshops für alle\, die gerne Neues ausprobieren\nTurniere\, bei denen du zeigen kannst\, was in dir steckt\nEine aufregende Nachtwanderung für echte Abenteurer\nUnd jede Menge Zeit für Gespräche und gemeinsame Aktivitäten\n\nEgal\, ob du gerne sportlich aktiv bist\, kreativ wirst oder einfach die Gemeinschaft genießen möchtest – diese Freizeit bietet für jeden etwas! Vom 29. Mai bis 1. Juni 2025 warten vier Tage voller Highlights auf dich. Melde dich jetzt an und freue dich auf Spiel\, Spaß und neue Freundschaften.\nLeitung: Viktor Janke
URL:http://kirchlichegemeinschaft.de/termin/teeniefreizeit-spass-action-gemeinschaft-warten-auf-dich/
LOCATION:Jugend- & Freizeitzentrum Koinonia\, Zum Jugendheim 6-8\, Biebergemünd - Bieber\, Hessen\, 63599\, Deutschland
ORGANIZER;CN="Kirchliche Gemeinschaft e.V.":MAILTO:info@kg-bsa.de
END:VEVENT
BEGIN:VEVENT
DTSTART;VALUE=DATE:20250531
DTEND;VALUE=DATE:20250602
DTSTAMP:20260424T075825
CREATED:20250424T093357Z
LAST-MODIFIED:20250424T093357Z
UID:23435-1748649600-1748822399@kirchlichegemeinschaft.de
SUMMARY:Missionstage des Missionswerk Siloah
DESCRIPTION:  \nZur Anmeldung geht es hier: https://missionswerk-siloah.de/veranstaltung/missionstage-2025/
URL:http://kirchlichegemeinschaft.de/termin/missionstage-des-missionswerk-siloah/
LOCATION:Hessen
ORGANIZER;CN="Missionswerk Siloah e.V.":MAILTO:info@missionswerk-siloah.de
END:VEVENT
END:VCALENDAR