BEGIN:VCALENDAR
VERSION:2.0
PRODID:-//Kirchliche Gemeinschaft e.V. - ECPv6.15.20//NONSGML v1.0//EN
CALSCALE:GREGORIAN
METHOD:PUBLISH
X-WR-CALNAME:Kirchliche Gemeinschaft e.V.
X-ORIGINAL-URL:http://kirchlichegemeinschaft.de
X-WR-CALDESC:Veranstaltungen für Kirchliche Gemeinschaft e.V.
REFRESH-INTERVAL;VALUE=DURATION:PT1H
X-Robots-Tag:noindex
X-PUBLISHED-TTL:PT1H
BEGIN:VTIMEZONE
TZID:Europe/Helsinki
BEGIN:DAYLIGHT
TZOFFSETFROM:+0200
TZOFFSETTO:+0300
TZNAME:EEST
DTSTART:20240331T010000
END:DAYLIGHT
BEGIN:STANDARD
TZOFFSETFROM:+0300
TZOFFSETTO:+0200
TZNAME:EET
DTSTART:20241027T010000
END:STANDARD
BEGIN:DAYLIGHT
TZOFFSETFROM:+0200
TZOFFSETTO:+0300
TZNAME:EEST
DTSTART:20250330T010000
END:DAYLIGHT
BEGIN:STANDARD
TZOFFSETFROM:+0300
TZOFFSETTO:+0200
TZNAME:EET
DTSTART:20251026T010000
END:STANDARD
BEGIN:DAYLIGHT
TZOFFSETFROM:+0200
TZOFFSETTO:+0300
TZNAME:EEST
DTSTART:20260329T010000
END:DAYLIGHT
BEGIN:STANDARD
TZOFFSETFROM:+0300
TZOFFSETTO:+0200
TZNAME:EET
DTSTART:20261025T010000
END:STANDARD
END:VTIMEZONE
BEGIN:VEVENT
DTSTART;VALUE=DATE:20250213
DTEND;VALUE=DATE:20250216
DTSTAMP:20260424T120435
CREATED:20250126T215606Z
LAST-MODIFIED:20250126T215643Z
UID:23292-1739404800-1739663999@kirchlichegemeinschaft.de
SUMMARY:Valentinswochenende für Paare
DESCRIPTION:Erlebt gemeinsam unvergessliche Momente!\nIm Alltag bleibt oft wenig Zeit für die Liebe. Doch wahre Liebe bedeutet\, sich Zeit füreinander zu nehmen und wertvolle gemeinsame Erinnerungen zu schaffen. Gönnt euch deshalb vom 13. – 16. Februar 2025 eine romantische Auszeit in einer der schönsten Städte 	Europas! Verbindet geistliche Impulse\, die eure Beziehung stärken\, mit wertvoller Zeit zu zweit – ganz ohne Ablenkungen. Dieses Wochenende bietet euch beides: inspirierende Gemeinschaft mit anderen Paaren und ausreichend Raum für Zweisamkeit.Nur wenige Plätze verfügbar – sichert euch jetzt euer unvergessliches Valentinswochenende und vertieft eure Liebe!\nLeitung: Viktor Janke
URL:http://kirchlichegemeinschaft.de/termin/valentinswochenende-fuer-paare/
LOCATION:Hessen
ORGANIZER;CN="Kirchliche Gemeinschaft e.V.":MAILTO:info@kg-bsa.de
END:VEVENT
BEGIN:VEVENT
DTSTART;VALUE=DATE:20250228
DTEND;VALUE=DATE:20250303
DTSTAMP:20260424T120435
CREATED:20250126T220057Z
LAST-MODIFIED:20250126T220057Z
UID:23295-1740700800-1740959999@kirchlichegemeinschaft.de
SUMMARY:Vater - Sohn - Wochenende (für 9 - 13 Jährige)
DESCRIPTION:Gemeinsam sind wir stark!\nIm Alltag gibt immer so viel zu tun. Eine stressige Arbeitsstelle\, Renovierungen im Haus und viele Aufgaben in der Gemeinde. Wo bleibt da noch die Zeit\, um in die Beziehung zu seinem Sohn zu investieren? Und doch ist dies unglaublich wichtig.Deshalb bieten wir dieses Wochenende an. Das Vater-Sohn-Wochenende soll vorrangig dazu beitragen\, dass Beziehungen wachsen – vor allem und nicht zuletzt auch die zum Vater im Himmel.Dieses  Wochenende  beginnt  mit einem reichhaltigen Abendbuffet und ab diesem Zeitpunkt fängt es auch an abenteuerlich zu werden. Wir werden viel Zeit draußen verbringen und so einige Herausforderungen erleben. Am Samstag bleibt die Küche zum Großteil geschlossen. Hungrig bleibt ihr aber nicht\, denn… Alles verraten wir aber nicht\, nur so viel: Es wird spannend	!\nLeitung: David Schaermann
URL:http://kirchlichegemeinschaft.de/termin/vater-sohn-wochenende-fuer-9-13-jaehrige/
LOCATION:Jugend- & Freizeitzentrum Koinonia\, Zum Jugendheim 6-8\, Biebergemünd - Bieber\, Hessen\, 63599\, Deutschland
ORGANIZER;CN="Kirchliche Gemeinschaft e.V.":MAILTO:info@kg-bsa.de
END:VEVENT
END:VCALENDAR