BEGIN:VCALENDAR
VERSION:2.0
PRODID:-//Kirchliche Gemeinschaft e.V. - ECPv6.15.20//NONSGML v1.0//EN
CALSCALE:GREGORIAN
METHOD:PUBLISH
X-ORIGINAL-URL:http://kirchlichegemeinschaft.de
X-WR-CALDESC:Veranstaltungen für Kirchliche Gemeinschaft e.V.
REFRESH-INTERVAL;VALUE=DURATION:PT1H
X-Robots-Tag:noindex
X-PUBLISHED-TTL:PT1H
BEGIN:VTIMEZONE
TZID:Europe/Helsinki
BEGIN:DAYLIGHT
TZOFFSETFROM:+0200
TZOFFSETTO:+0300
TZNAME:EEST
DTSTART:20240331T010000
END:DAYLIGHT
BEGIN:STANDARD
TZOFFSETFROM:+0300
TZOFFSETTO:+0200
TZNAME:EET
DTSTART:20241027T010000
END:STANDARD
BEGIN:DAYLIGHT
TZOFFSETFROM:+0200
TZOFFSETTO:+0300
TZNAME:EEST
DTSTART:20250330T010000
END:DAYLIGHT
BEGIN:STANDARD
TZOFFSETFROM:+0300
TZOFFSETTO:+0200
TZNAME:EET
DTSTART:20251026T010000
END:STANDARD
BEGIN:DAYLIGHT
TZOFFSETFROM:+0200
TZOFFSETTO:+0300
TZNAME:EEST
DTSTART:20260329T010000
END:DAYLIGHT
BEGIN:STANDARD
TZOFFSETFROM:+0300
TZOFFSETTO:+0200
TZNAME:EET
DTSTART:20261025T010000
END:STANDARD
END:VTIMEZONE
BEGIN:VEVENT
DTSTART;VALUE=DATE:20250117
DTEND;VALUE=DATE:20250120
DTSTAMP:20260424T133333
CREATED:20250126T215337Z
LAST-MODIFIED:20250126T215337Z
UID:23290-1737072000-1737331199@kirchlichegemeinschaft.de
SUMMARY:Seelsorge schulung
DESCRIPTION:Modul 3: Lebenslogik entdecken – Grundlagen der Individualpsychologie\nJeder Mensch ist von Gott einzigartig geschaffen und auf Beziehung angelegt. In diesem Seminar fragen wir nach dem roten Faden in unserem Leben. Gibt es so etwas wie eine „innere Logik“\, die uns nicht bewusst ist? Was treibt uns an? Das Seminar bietet eine	Einführung in die Grundbegriffe der Individualpsychologie\,  die  wir  reflektiert  in  die  Beratende Seelsorge übernommen haben und erläutert die Schritte zur Erarbeitung des Lebensstils.\nReferent : Gebhard Weik
URL:http://kirchlichegemeinschaft.de/termin/seelsorge-schulung/
LOCATION:Hessen
ORGANIZER;CN="Kirchliche Gemeinschaft e.V.":MAILTO:info@kg-bsa.de
END:VEVENT
END:VCALENDAR