BEGIN:VCALENDAR
VERSION:2.0
PRODID:-//Kirchliche Gemeinschaft e.V. - ECPv6.15.20//NONSGML v1.0//EN
CALSCALE:GREGORIAN
METHOD:PUBLISH
X-WR-CALNAME:Kirchliche Gemeinschaft e.V.
X-ORIGINAL-URL:http://kirchlichegemeinschaft.de
X-WR-CALDESC:Veranstaltungen für Kirchliche Gemeinschaft e.V.
REFRESH-INTERVAL;VALUE=DURATION:PT1H
X-Robots-Tag:noindex
X-PUBLISHED-TTL:PT1H
BEGIN:VTIMEZONE
TZID:Europe/Helsinki
BEGIN:DAYLIGHT
TZOFFSETFROM:+0200
TZOFFSETTO:+0300
TZNAME:EEST
DTSTART:20230326T010000
END:DAYLIGHT
BEGIN:STANDARD
TZOFFSETFROM:+0300
TZOFFSETTO:+0200
TZNAME:EET
DTSTART:20231029T010000
END:STANDARD
BEGIN:DAYLIGHT
TZOFFSETFROM:+0200
TZOFFSETTO:+0300
TZNAME:EEST
DTSTART:20240331T010000
END:DAYLIGHT
BEGIN:STANDARD
TZOFFSETFROM:+0300
TZOFFSETTO:+0200
TZNAME:EET
DTSTART:20241027T010000
END:STANDARD
BEGIN:DAYLIGHT
TZOFFSETFROM:+0200
TZOFFSETTO:+0300
TZNAME:EEST
DTSTART:20250330T010000
END:DAYLIGHT
BEGIN:STANDARD
TZOFFSETFROM:+0300
TZOFFSETTO:+0200
TZNAME:EET
DTSTART:20251026T010000
END:STANDARD
END:VTIMEZONE
BEGIN:VEVENT
DTSTART;TZID=Europe/Helsinki:20241108T180000
DTEND;TZID=Europe/Helsinki:20241110T130000
DTSTAMP:20260424T164438
CREATED:20241008T120646Z
LAST-MODIFIED:20241023T135145Z
UID:22898-1731088800-1731243600@kirchlichegemeinschaft.de
SUMMARY:Fokus-Wochenende für Jugendliche & Junge Erwachsene
DESCRIPTION:Anmeldung und weitere Infos unter https://forms.gle/ofNdko19XKjTijgo8 \n 
URL:http://kirchlichegemeinschaft.de/termin/fokus-wochenende-fuer-jugendliche-junge-erwachsene/
LOCATION:Hessen
END:VEVENT
END:VCALENDAR